BEGIN:VCALENDAR
VERSION:2.0
PRODID:-//Film and Media Studies at UCSB - ECPv5.14.0.4//NONSGML v1.0//EN
CALSCALE:GREGORIAN
METHOD:PUBLISH
X-WR-CALNAME:Film and Media Studies at UCSB
X-ORIGINAL-URL:https://www.filmandmedia.ucsb.edu
X-WR-CALDESC:Events for Film and Media Studies at UCSB
BEGIN:VTIMEZONE
TZID:UTC
BEGIN:STANDARD
TZOFFSETFROM:+0000
TZOFFSETTO:+0000
TZNAME:UTC
DTSTART:20220101T000000
END:STANDARD
END:VTIMEZONE
BEGIN:VEVENT
DTSTART;TZID=UTC:20220612T110000
DTEND;TZID=UTC:20220929T123000
DTSTAMP:20260423T010401
CREATED:20220708T182730Z
LAST-MODIFIED:20220722T171747Z
UID:10917-1655031600-1664454600@www.filmandmedia.ucsb.edu
SUMMARY:2022 UCSB FILM AND MEDIA STUDIES GRADUATION RECOGNITION CEREMONY
DESCRIPTION:﻿﻿﻿﻿ \nEdited by Keith Boynton\, and Chris Jenkins\, graphics Dana Welch\nSpecial Thanks to Acting Dean Mary Hancock\, Tom Lazarus and Michael Siegel \ndownload a pdf of the program \nGraduation Recognition Ceremony\nJune 12\, 2022\nWishing You Success in the Future \nWelcoming Remarks & Departmental Address\nPeter Bloom             Department Chair \nStudent Address\nMagan Tran \n \nPresentation of Awards:\nThe Alexander Sesonske Prize: Presented by Charles Wolfe\nRecognizes writing and research capacity for student essays about film\, television\, and digital history\, theory and criticism. The award is named after one of the founders of our department. \nFirst Place: \nKarina Rodriguez\, “The Pandemic Pause-Button: Stop and Smell the Distractions”\n \n  \nThe Paul N. and Elinor T. Lazarus Scholarship: Presented by James McNamara\n\nFosters the development of a student’s focus on writing for the screen. Award was established in memory of Paul Lazarus who taught screenwriting at UCSB for over 20 years. Many of his former students have gone on to write\, produce\, and direct major Hollywood films and television shows. It is open to Film and Media majors in their junior year. The scholarship recipient spends their senior year working in connection with an instructor to develop a new film or television screenplay.\n2021 Recipient\nKatherine Fogg\n2022 Recipients\nJavier Barajas      Noah Hecht      Rowan Oliphant \n \n  \nThe Dorothy and Sherrill C. Corwin Awards: Presented by Cristina Venegas\n\nFor the last 40 years\, the Corwin Family and the Metropolitan Theatres Corporation have generously funded this award recognizing the creative talent of UCSB students in screenwriting and production. \nBest Feature Screenplay (Tie First Place): \n“It Might be Too Late” by Loreena Miquez\n“Follow Me” by Katie Jordan \nBest Short Screenplay: \n“Alien Encounter” by Audrey Sherev \nBest Short Film: \nFirst Place: \n“Fatherhood” produced by Peter Figueira \nSecond Place: \n“Just One Yesterday” produced by Mason Scot Campbell \n \nBest Director Award: Presented by Laila Sherreen Sakr\n\nRecognizes directing in student projects created during the academic year. Award is made possible by a donation from the Scott Wells Memorial Foundation. Scott was a Film and Media Studies alumni who passed away in 2012.\nBrie Peterson for Lady Scout Cookies \n \nDavid F. Siegel Award: Presented by Michael Siegel\nRecognizes the memory of one of our alumni who lost his battle with Leukemia just a month prior to graduation. As a student\, David made every effort to put energy into his classes while he was healthy. His determination in the face of his illness has inspired this award and it recognizes graduating seniors in the Film and Media department who have shown “exceptional drive\, tenacity\, and courage in the face of adversity.”\nIly Logeais \n \n  \nThe Spirit Award: Presented by Joe Palladino\n\nRecognizes a student who embodies the dynamic spirit essential to the collaborative environment of the department; their enthusiasm\, generosity\, and initiative while working for the department\, the Pollock Theater\, and department student clubs. \nKatherine Fogg     Karina Rodriguez     Mason Scot Campbell \n\nGraduate Student Accomplishments: Presented by Professor Ross Melnick\nMA degree\nTinghao Zhou\nPhD degree\nSarah Lerner     Kajsa Philippa Niehusen \nDistinction in Critical Studies: Presented by Constance Penley\n\nRecognizes a student’s achievement in critical thinking\, analysis\, and writing. \nAndrew Hansen     Sage Hinsley     Stephanie Lopez\nMason Scot Campbell     Marcello Frisina     Oswin Qi\nTaylor Burke \n \nOutstanding Graduating Seniors: Presented by Greg Siegel\n\nRecognizes student’s overall academic achievements across critical studies and production as well as their contributions to the life of the department. We acknowledge students who are active\, prepared\, versatile\, and involved in at least one other activity outside the classroom. \nKarl-Erik Mills     Katherine Fogg     Lana Danzeisen     Karina Rodriguez     Michael Tran     Jon Peter Lewis     Samantha Abajian     Katherine Swartz \n \nClass of 2021: presented by Ross Melnick\nGraduation Candidates\n2021-2022 Film & Media Studies Seniors\nSamantha Maria Abaijan     Christian A. Aceves     Lily Kameaiomakamae Aiwohi     Romar Mejia Alog     Elyse Josie Alves     Colin Anderson     Ethan Scott Archer     Michele Aristy     Jeremy Evan Baker     Catherine Folz Ballantyne     Robin Hill Baptista     Sierra Rochelle Barton     Kiley Madison Beard     River Beaune     Megan Rae Becker     Josh Michael Bockholt     Nalie Erin Borihane     Max Brown     Tallulah Lynn Bryant     Taylor Ann Burke     Charlie Bursch     Evan Benjamin Cacatian     Rodrigo Isaac Calderon     Mason Scot Campbell     Julius Bartholomew Cesarani     Oliver Alfredo Chavez     Alex Chen     Kevin Chen     Diane Hyun Choung     Matthew Byron Cinnamon     Hollie Renee Collins     Yuyao Cong     Catherine Mary Conmy     Leia Cumpson     Alexander Motonari Daijo     Lana Rose Danzeisen     Tanner John Demain     Emma Katherine Dezarn     Angel Francisco Diaz     Daryl Cachapero Donato     Casey Marlon Donlan     Kavir Ashnil Doty     Shevoni Lata Dula     Jordyn Michele Dunn     Max Maximilian Echegaray     Lauren Olivia Victoria Enslin     Adam Thaddeus Fagenson     Amrylois Barras Ferido     Peter Frank Figueira     Kate Elaine Fogg     Marcello P. Frisina     Nicholas Sterling Gamber     Molly McCardle Goldstein     Karina De Los An Gomez Salazar     Jiahong Guo     Margaux Marie Hakkaart     Andrew Burke Christuan Hansen     Sarah Whitfield Hansen     Hannah Lizeth Herrera     Trevor Arthur Hewitt     Sage Marie Hinsley     Ben Chet Holland     Scarlett Huang     Mateo Andrew Huerta     Javier Iniguez Jr.     Faith Catherine Ishiwata     Lucas Daniel Jackson     Jazmin Jacobo     Sidney Jiang     Marina Jean Jones     Alex Nicholas Kaminski     Beau Karnsrithong     Sasha Karsten     Steffanie Arianna Klepper     Jessica Kuo     Kim Kwok     Bella Lee     Qi Leng     Ari Ezra Levenson     Jon Peter Lewis     Yuzhong Li     Tiffany Liang     Josie Liu     Ily Nicholette Logeais     Stephanie Ann Lopez     Nicholas Ryan Lukens     Lola Christine Macaulay     Vidhisha Mahesh     Anna Stefanos Makris     Liz Michelle Maldonado     Paolo Rockett Marchi     Karina Marquez     Lucy Abigail Massam     Zac Pedrito McGlynn     Elvis Ernesto Menjivar     Loreena Fernandez Miguez     Karl-Erik Mills     Cameron Ashton Montesanto     Karina Morales     Darby James Naughton     Alex Bronte Newe     Jake Eric Newman     Jingjing Nie     Esteban Nillo Sanchez     Eric William Nissen     Gabriel Francis Xavier O’Brien     Ethan Yehun Oh     Elohor Stephanie Ojose     Gracie Marie Olivares     Cynthia Thi On     Katie M. Osaki     Fabian Oseguera     Dylan Sweet Overboe     Julie Hyori Pak     Alie Antoniete Paolino-Du Bois     Saul Eduardo Perez Escobedo     Hayley Nicole Pickard     Aileen Mariana Pulchny     Michelle Qi     Oswin Yiyuan Qi     Izzy Qu     Michelle Thuy Quach     Seth Ragonese     Alyssa Cachet Ramirez     Marisol Estrella Ramirez     Miles J. Ramsdell-Ray     Allison Grace Reberg     Kristi Jiyoon Rho     Karina Rodriguez     Odalis Guadalupe Rojo-Perez     Christian G. Ross     Rachel Kathleen Russell     Angie Nataly Sanchez     Arianna Justine Sanchez     Lupita Santoyo Medina     Seth T. Saunooke     Jacob Nicholas Schwebke     Jack Wyatt Scotti     Carlos Daniel Serrano     Denise Isabel Shapiro     Diego Silva     Ethan Sim     Joshua Robert Sober     Emerson David Stewart     Eros Kai Surya     Sam Foley Swanson     Katherine Viola Swartz     Jackie Tapia     Leanne Janette Tarrab     Alyssa Marie Tinoco     Magan Thuy My Tran     Marlene Tran     Michael Le Tran     Kelsey Lane Tynes     Aubrey Rodriguez Valerio Jr.     Itzel Vargas Gonzalez     Natalie Vong     Brendan Anthony Webb     Reece Elias Weinberg     Jack Malcolm Wolff     Zixuan Xie     Rexye Ye     Joo Yeon Yoo     Hao T. Yu     Qingzhu Zhao     Zoe Zhao     Yuyao Zhao \n  \nPhotos from the Graduation Ceremony\n \n 
URL:https://www.filmandmedia.ucsb.edu/event/2022graduationceremony/
CATEGORIES:Online,Talks
ATTACH;FMTTYPE=image/jpeg:/wp-content/uploads/2022/07/graduation2022.jpg
END:VEVENT
END:VCALENDAR