BEGIN:VCALENDAR
VERSION:2.0
PRODID:-//Film and Media Studies at UCSB - ECPv5.14.0.4//NONSGML v1.0//EN
CALSCALE:GREGORIAN
METHOD:PUBLISH
X-WR-CALNAME:Film and Media Studies at UCSB
X-ORIGINAL-URL:https://www.filmandmedia.ucsb.edu
X-WR-CALDESC:Events for Film and Media Studies at UCSB
BEGIN:VTIMEZONE
TZID:UTC
BEGIN:STANDARD
TZOFFSETFROM:+0000
TZOFFSETTO:+0000
TZNAME:UTC
DTSTART:20240101T000000
END:STANDARD
END:VTIMEZONE
BEGIN:VEVENT
DTSTART;TZID=UTC:20240131T170000
DTEND;TZID=UTC:20240131T190000
DTSTAMP:20260420T023553
CREATED:20231003T222547Z
LAST-MODIFIED:20240129T200547Z
UID:11992-1706720400-1706727600@www.filmandmedia.ucsb.edu
SUMMARY:Arabic Glitch Book Launch
DESCRIPTION:Download Poster\n \nDiscussants:\nGeorge Legrady (Media Arts and Technology)\nConstance Penley (Film and Media Studies)\nSherene Seikaly (History) \nDescription: \nThe concept of Arabic Glitch challenges the once dominant narratives about the relationship between technology and political agency that center Silicon Valley\, as well as the study of digital art (specifically glitch art)\, the study of online social movements\, and area studies of the Arabic-speaking Middle East and North Africa. It instigates interventions by demonstrating that twenty-first century resistance movements are grounded in the 2011 Arab uprisings; showing how social media stage confrontations between state and resistors; introducing the valuable concept of data bodies\, which keep the body and analog experience in digital knowledge production\, and promoting software literacy. While “glitch” in popular parlance is typically understood as an unwelcome error\, an Arabic glitch functions as both a visual artifact and conceptual “tear” in technologies and institutions–a tear that creates an opening for social change. The argument interweaves ideas from artistic practice with discussions of historical and social movements while considering technoculture in the Arab world through the framework of “glitch.” \nTaking from the virtual and bringing back into the material\, Laila Shereen Sakr will discuss her new book with three scholars across Film and Media Studies\, Digital Arts\, and Middle East Studies. The discussants will interrogate the concept of “Arabic glitch” as a framework in their fields of research and practice. A reception will follow with beats by DJ Davey along with an exhibit of the augmented reality (AR) data visualization of the January 6th Insurrection discussed in Arabic Glitch: Technoculture\, Data Bodies\, and Archives. \nThis event is open to the public. Refreshments will be available\, and UCSB Bookstore will be present at the event with copies of the book for sale. \nCenter for Middle East Studies Spotlight Series\nDepartment of Film and Media Studies Colloquium\nCo-sponsored by the Interdisciplinary Humanities Center (IHC)
URL:https://www.filmandmedia.ucsb.edu/event/arabic-glitch-book-launch/
LOCATION:HSSB 6020\, Interdisciplinary Humanities Center\, UCSB\, Santa Barbara\, CA\, 93106-4010\, United States
CATEGORIES:Colloquium,Talks
ATTACH;FMTTYPE=image/png:/wp-content/uploads/2023/10/AGBookLaunch-UCSB-Poster-3.png
END:VEVENT
END:VCALENDAR