BEGIN:VCALENDAR
VERSION:2.0
PRODID:-//Film and Media Studies at UCSB - ECPv5.14.0.4//NONSGML v1.0//EN
CALSCALE:GREGORIAN
METHOD:PUBLISH
X-WR-CALNAME:Film and Media Studies at UCSB
X-ORIGINAL-URL:https://www.filmandmedia.ucsb.edu
X-WR-CALDESC:Events for Film and Media Studies at UCSB
BEGIN:VTIMEZONE
TZID:UTC
BEGIN:STANDARD
TZOFFSETFROM:+0000
TZOFFSETTO:+0000
TZNAME:UTC
DTSTART:20240101T000000
END:STANDARD
END:VTIMEZONE
BEGIN:VEVENT
DTSTART;TZID=UTC:20241211T153000
DTEND;TZID=UTC:20241211T170000
DTSTAMP:20260423T033213
CREATED:20241202T235659Z
LAST-MODIFIED:20241203T184037Z
UID:12731-1733931000-1733936400@www.filmandmedia.ucsb.edu
SUMMARY:Circuit Training: Infrastructural Approaches to (Dark) Fiber\,  Data Centers\, and Cell Towers
DESCRIPTION:This panel explores material relations and methodological approaches core to critical understandings of (dark) fiber\, data centers\, and cell towers. Through a focus on methodological approaches—from spatial mapping and environmental analysis to ethnographic insights and industry analysis—panelists detail the layered\, often contested relationships that bind these infrastructures to the environments and people they serve. This conversation encourages thinking about digital connectivity as contingent on tangible\, place-based circuits\, urging us to see these systems as both powerful actors in social life and dynamic assemblages that can be changed. \nThis colloquium is organized in sync with a meeting of the Digital Infrastructure and Society group hosted by the Global Media Technologies and Cultures Lab. \nGermaine Halegoua\, University of Michigan \nNicole Starosielski\, UC Berkeley \nJulia Velkova\, Linköping University \nJennifer Holt\, UC Santa Barbara \nLisa Parks\, UC Santa Barbara
URL:https://www.filmandmedia.ucsb.edu/event/circuit-training/
LOCATION:2135 SSMS Building\, SSMS Building\, Santa Barbara\, CA\, 93106-4010\, United States
CATEGORIES:Colloquium
ATTACH;FMTTYPE=image/jpeg:/wp-content/uploads/2024/12/tower.jpg
END:VEVENT
END:VCALENDAR