BEGIN:VCALENDAR
VERSION:2.0
PRODID:-//Film and Media Studies at UCSB - ECPv5.14.0.4//NONSGML v1.0//EN
CALSCALE:GREGORIAN
METHOD:PUBLISH
X-WR-CALNAME:Film and Media Studies at UCSB
X-ORIGINAL-URL:https://www.filmandmedia.ucsb.edu
X-WR-CALDESC:Events for Film and Media Studies at UCSB
BEGIN:VTIMEZONE
TZID:UTC
BEGIN:STANDARD
TZOFFSETFROM:+0000
TZOFFSETTO:+0000
TZNAME:UTC
DTSTART:20190101T000000
END:STANDARD
END:VTIMEZONE
BEGIN:VEVENT
DTSTART;TZID=UTC:20191107T190000
DTEND;TZID=UTC:20191107T220000
DTSTAMP:20260419T115805
CREATED:20190903T181131Z
LAST-MODIFIED:20190903T181755Z
UID:6797-1573153200-1573164000@www.filmandmedia.ucsb.edu
SUMMARY:Meet John Doe
DESCRIPTION:When D. B. Norton (Edward Arnold)\, an oil magnate with political ambitions\, takes over a city newspaper and begins firing employees by the dozen\, columnist Ann Mitchell (Barbara Stanwyck) fights back\, penning a fake letter from a jobless “John Doe\,” who in protest against the state of the world threatens to commit suicide by jumping off the City Hall roof. After the letter becomes the talk of the town\, Mitchell and her editor hire a washed-up baseball player (Gary Cooper) to act and speak as the authentic John Doe. The publicity stunt soon takes on his life of its own\, inspiring a nation-wide John Doe Club movement\, which Norton then seeks to exploit. Raising prescient questions about the relationship between corporate moguls and the media\, and the ethical dilemmas faced by those in their employ\, Meet John Doe was the first and only independently produced film by director Frank Capra and screen writer Robert Riskin\, whose earlier\, celebrated collaborations at Columbia Pictures included It Happened One Night (1934) and Mr. Deeds Goes to Town (1936). \nVictoria Riskin (author of Fay Wray and Robert Riskin: A Hollywood Memoir) will join Charles Wolfe  (Film and Media Studies\, UCSB) for a post-screening discussion of the film and Robert Riskin’s legacy. \n\nReserve tickets
URL:https://www.filmandmedia.ucsb.edu/event/meet-john-doe/
LOCATION:Pollock Theatre
CATEGORIES:Screenings,Talks
ATTACH;FMTTYPE=image/jpeg:/wp-content/uploads/2019/09/meetjohn.jpg
END:VEVENT
END:VCALENDAR