BEGIN:VCALENDAR
VERSION:2.0
PRODID:-//Film and Media Studies at UCSB - ECPv5.14.0.4//NONSGML v1.0//EN
CALSCALE:GREGORIAN
METHOD:PUBLISH
X-WR-CALNAME:Film and Media Studies at UCSB
X-ORIGINAL-URL:https://www.filmandmedia.ucsb.edu
X-WR-CALDESC:Events for Film and Media Studies at UCSB
BEGIN:VTIMEZONE
TZID:UTC
BEGIN:STANDARD
TZOFFSETFROM:+0000
TZOFFSETTO:+0000
TZNAME:UTC
DTSTART:20250101T000000
END:STANDARD
END:VTIMEZONE
BEGIN:VEVENT
DTSTART;TZID=UTC:20250205T150000
DTEND;TZID=UTC:20250205T170000
DTSTAMP:20260423T002035
CREATED:20250114T172348Z
LAST-MODIFIED:20250203T234152Z
UID:12810-1738767600-1738774800@www.filmandmedia.ucsb.edu
SUMMARY:Outside the Box: Cardboard in Contemporary Children's Culture - Meredith A. Bak  (Rutgers University-Camden)
DESCRIPTION:The cardboard box has long been regarded as the imaginative plaything par excellence. In 2005\, the box was inducted into the Toy Association’s Toy Industry Hall of Fame at the Strong National Museum of play in Rochester\, NY—institutionalizing a decades-old association between cardboard and children’s creative play. On the page and onscreen\, in museum galleries\, schools\, toy aisles\, and at home\, today cardboard occupies a privileged position within children’s material culture where the promises of environmental and STEAM education coalesce. Its accessibility makes it an equitable choice; its recyclability makes it a sustainable one. This talk will examine cardboard’s recent ascendence in children’s sustainability and STEAM cultures. Through a series of case studies\, including documentary film\, fiction\, curricular materials and kids’ material cultures\, it will identify the optimistic futures projected by proponents of cardboard play and interrogate their underpinning logics. Cardboard sits at the intersection between the local and the global in children’s everyday lives—at once emblematic of transnational flows of labor and capital and the material stuff of hyper-specific embodied engagements. As such\, this talk will trace cardboard’s function as a material\, discursive\, and aesthetic phenomenon deployed to address—though not necessarily resolve—a range of concerns related to children’s economic\, environmental\, and educational futures. \nMeredith A. Bak is an Associate Professor of Childhood Studies at Rutgers University-Camden. She is the author of Playful Visions: Optical Toys and the Emergence of Children’s Media Culture (MIT Press\, 2020). Her work has appeared in journals including Ninth Letter\, The Journal for Cinema and Media Studies\, Early Popular Visual Culture\, The Velvet Light Trap\, and Film History\, and in several edited collections. She is at work on a project about the role of cardboard in children’s STEAM and environmental pedagogies. \nSponsored by the Department of Film and Media Studies\, the Carsey-Wolf Center\, the Interdisciplinary Humanities Center\, Global Childhood Media IHC RFG\, Department of German and Slavic Studies\, Comparative Literature Program
URL:https://www.filmandmedia.ucsb.edu/event/meredithbak/
LOCATION:3145 SSMS Building
CATEGORIES:Colloquium
ATTACH;FMTTYPE=image/png:/wp-content/uploads/2025/01/Bak-Title-Transparent-Peter-Bloom.png
END:VEVENT
END:VCALENDAR