BEGIN:VCALENDAR
VERSION:2.0
PRODID:-//Film and Media Studies at UCSB - ECPv5.14.0.4//NONSGML v1.0//EN
CALSCALE:GREGORIAN
METHOD:PUBLISH
X-WR-CALNAME:Film and Media Studies at UCSB
X-ORIGINAL-URL:https://www.filmandmedia.ucsb.edu
X-WR-CALDESC:Events for Film and Media Studies at UCSB
BEGIN:VTIMEZONE
TZID:UTC
BEGIN:STANDARD
TZOFFSETFROM:+0000
TZOFFSETTO:+0000
TZNAME:UTC
DTSTART:20230101T000000
END:STANDARD
END:VTIMEZONE
BEGIN:VEVENT
DTSTART;TZID=UTC:20230426T153000
DTEND;TZID=UTC:20230426T170000
DTSTAMP:20260419T115805
CREATED:20230411T171233Z
LAST-MODIFIED:20230419T162847Z
UID:11704-1682523000-1682528400@www.filmandmedia.ucsb.edu
SUMMARY:AGENTS OF ISHQ and the Radical Possibilities of Love - Paromita Vohra\, Freelance Media Artist and Writer based in Mumbai
DESCRIPTION:A presentation about the experience of co-creating a digital space about sex and desire in India.\n\n  \nParomita Vohra is a media artist and writer who works with a range of forms\, including film\, comics\, digital media\, installation art\, and writing\, to explore themes of feminism\, desire\, urban life and popular culture. Her films as director include the documentaries Partners in Crime (to be screened on April 27\, 7 pm\, Pollock Theater)\, Unlimited Girls\, Q2P\, and Morality TV and the Loving Jehad. Vohra has written the fiction feature Khamosh Pani\, the documentaries Skin Deep\, Stuntmen of Bollywood\, and If You Pause\, the play Ishquiya: Dharavi Ishtyle and the comic Priya’s Mirror. She has published essays on film\, popular culture\, love and desire\, as well as several short stories. She also writes a weekly newspaper column\, “Paro-normal Activity” in Sunday Mid-day. In 2015 Vohra founded the Agents of Ishq\, an award-winning digital platform for conversations on sex\, love and desire in India and is currently its Creative Director.\n  \nSponsored by Department of Feminist Studies; IHC South Asian Religions and Cultures RFG
URL:https://www.filmandmedia.ucsb.edu/event/paromitavohra/
LOCATION:2135 SSMS Building\, SSMS Building\, Santa Barbara\, CA\, 93106-4010\, United States
CATEGORIES:Colloquium
ATTACH;FMTTYPE=image/jpeg:/wp-content/uploads/2023/04/Paro-Garden-of-Pleasure.jpg
END:VEVENT
END:VCALENDAR