BEGIN:VCALENDAR
VERSION:2.0
PRODID:-//Film and Media Studies at UCSB - ECPv5.14.0.4//NONSGML v1.0//EN
CALSCALE:GREGORIAN
METHOD:PUBLISH
X-WR-CALNAME:Film and Media Studies at UCSB
X-ORIGINAL-URL:https://www.filmandmedia.ucsb.edu
X-WR-CALDESC:Events for Film and Media Studies at UCSB
BEGIN:VTIMEZONE
TZID:UTC
BEGIN:STANDARD
TZOFFSETFROM:+0000
TZOFFSETTO:+0000
TZNAME:UTC
DTSTART:20230101T000000
END:STANDARD
END:VTIMEZONE
BEGIN:VEVENT
DTSTART;TZID=UTC:20230405T153000
DTEND;TZID=UTC:20230405T170000
DTSTAMP:20260423T213024
CREATED:20230216T000856Z
LAST-MODIFIED:20230216T001633Z
UID:11540-1680708600-1680714000@www.filmandmedia.ucsb.edu
SUMMARY:A Tale of Three Brothers: Ezra\, Me’ir\, and Hayyawi Sawda’i and a History of Cinema in Iraq - Pelle Valentin Olsen\, University of Oslo\, Norway
DESCRIPTION:This talk investigates the historical entanglement of capital\, culture\, and leisure by mapping the local Iraqi capitalist and entrepreneurial elites\, many of whom were upper-class Iraqi Jews with international outlooks\, who invested in exhibition and production technology. In the 1930s\, 1940s\, and 1950s\, the Iraqi Jewish Sawda’i family pioneered the construction of cinemas\, import of films\, and established Iraq’s first film studio\, Studio Baghdad. Examining the history of Iraqi cinema and film production and distribution through the Sawda’i family brings into focus many of the elements that characterized the mediums early history in Iraq\, including the importance of family businesses\, minority networks\, the dominance of Hollywood\, and the many networks and affiliations that tied Iraq to Europe\, the US\, India\, and the Middle East. Finally\, it is also an opportunity to complicate the way in which later national narratives of Iraqi cinema have obscured the role of those with hybrid identities\, including the Sawda’i family. \nPelle Valentin Olsen is a cultural and social historian of the modern Middle East. He received his Ph.D. from the Department of Near Eastern Languages and Civilizations at the University of Chicago (2020). His research examines the history of leisure\, cultural production\, education\, gender\, and sexuality in twentieth-century Iraq. On the basis of his dissertation\, Pelle is currently working on a book manuscript entitled Idle Days and Nights: Leisure\, Time\, and Modernity in Iraq. In 2020–2\, he was a postdoctoral fellow in the Global Studies at Roskilde University\, Denmark. Currently\, he is a Marie Curie postdoctoral fellow at the University of Oslo\, Norway. His work has appeared in edited volumes as well as in Journal of Middle East Women’s Studies\, Arab Studies Journal\, Journal of Palestine Studies\, Middle East Critique\, Regards\, Journal of Arabic Literature\, Journal of Social History and elsewhere. \nSponsored by the Film and Media Studies Department\, the Interdisciplinary Humanities Center\, and the History Department.
URL:https://www.filmandmedia.ucsb.edu/event/pelle-valentin-olsen/
LOCATION:2135 SSMS Building\, SSMS Building\, Santa Barbara\, CA\, 93106-4010\, United States
CATEGORIES:Colloquium
ATTACH;FMTTYPE=image/jpeg:/wp-content/uploads/2023/02/Image-for-Talk-Mona-Damluji.jpg
END:VEVENT
END:VCALENDAR