BEGIN:VCALENDAR
VERSION:2.0
PRODID:-//Film and Media Studies at UCSB - ECPv5.14.0.4//NONSGML v1.0//EN
CALSCALE:GREGORIAN
METHOD:PUBLISH
X-WR-CALNAME:Film and Media Studies at UCSB
X-ORIGINAL-URL:https://www.filmandmedia.ucsb.edu
X-WR-CALDESC:Events for Film and Media Studies at UCSB
BEGIN:VTIMEZONE
TZID:UTC
BEGIN:STANDARD
TZOFFSETFROM:+0000
TZOFFSETTO:+0000
TZNAME:UTC
DTSTART:20180101T000000
END:STANDARD
END:VTIMEZONE
BEGIN:VEVENT
DTSTART;TZID=UTC:20181105T190000
DTEND;TZID=UTC:20181105T190000
DTSTAMP:20260424T085436
CREATED:20180919T182832Z
LAST-MODIFIED:20190307T223810Z
UID:2271-1541444400-1541444400@www.filmandmedia.ucsb.edu
SUMMARY:RBG
DESCRIPTION:At the age of 85\, U.S. Supreme Court Justice Ruth Bader Ginsburg has developed a lengthy legal legacy while becoming an unexpected pop culture icon. But the unique personal journey of her rise to the nation’s highest court has been largely unknown\, even to some of her biggest fans – until now. RBG (2018) explores Ginsburg’s life and career through interviews\, public appearances and archival material. \nBetsy West and Julie Cohen (co-directors) will join moderator Jeannine DeLombard (English\, UCSB) for a post-screening discussion.
URL:https://www.filmandmedia.ucsb.edu/event/rbg/
LOCATION:Pollock Theatre
CATEGORIES:Screenings
ATTACH;FMTTYPE=image/jpeg:/wp-content/uploads/2018/09/rbg4.jpg
END:VEVENT
END:VCALENDAR